BEGIN:VCALENDAR
VERSION:2.0
PRODID:-//https://ustpm.org///NONSGML kigkonsult.se iCalcreator 2.10.15//
METHOD:PUBLISH
BEGIN:VEVENT
UID:20260423T123318EDT-9699DMUscx@https://ustpm.org/
DTSTAMP:20260423T163318Z
DESCRIPTION:Registration is not necessary.This meeting begins at 10:00 AM a
 nd will last approximately 2 hours\, followed by a menu lunch. https://ust
 pm.org/events/ustpm-events-2/event/9-meeting-of-the-state-central-committe
 e
DTSTART:20201205T150000Z
DTEND:20201205T170000Z
LOCATION:Delhi Cafe (4625 Willoughby Rd\, Ste 9\, Holt\, MI 48842)
SUMMARY:Meeting of the State Central Committee
URL:https://ustpm.org/events/ustpm-events-2/event/9-meeting-of-the-state-ce
 ntral-committee
END:VEVENT
END:VCALENDAR
