BEGIN:VCALENDAR
VERSION:2.0
PRODID:-//https://ustpm.org///NONSGML kigkonsult.se iCalcreator 2.10.15//
METHOD:PUBLISH
BEGIN:VEVENT
UID:20260423T080216EDT-0324Rw6Cib@https://ustpm.org/
DTSTAMP:20260423T120216Z
DESCRIPTION:2020 State Convention Registration\nDate: July 25\, 2020\nTime:
  10:00 AM – 2:00 PM\nPlace: Immanuel Baptist Church\, 2680 E. M21\, Corunn
 a\, MI 48817\nCost:\nSingle $75.00\nCouple $125.00\nChildren $20.00Please 
 donate online to register.&nbsp\; Make sure you earmark the donation for C
 onvention Registration.\nRegistration fee includes lunch and party members
 hip. All current paid members\, please deduct $35.00 for a single membersh
 ip\, $45 for a family membership and $5.00 for a student membership from y
 our registration fee\, whichever applies to you. https://ustpm.org/events/
 ustpm-events-2/event/11-state-convention
DTSTART;VALUE=DATE:20200725
LOCATION:Immanuel Baptist Church (2680 E. M21\, Corunna\, MI  48817)
SUMMARY:State Convention
URL:https://ustpm.org/events/ustpm-events-2/event/11-state-convention
END:VEVENT
END:VCALENDAR
